BEGIN:VCALENDAR
VERSION:2.0
PRODID:-//BCMB Camps - ECPv6.15.20//NONSGML v1.0//EN
CALSCALE:GREGORIAN
METHOD:PUBLISH
X-WR-CALNAME:BCMB Camps
X-ORIGINAL-URL:https://www.bcmbcamps.com
X-WR-CALDESC:Events for BCMB Camps
REFRESH-INTERVAL;VALUE=DURATION:PT1H
X-Robots-Tag:noindex
X-PUBLISHED-TTL:PT1H
BEGIN:VTIMEZONE
TZID:America/Vancouver
BEGIN:DAYLIGHT
TZOFFSETFROM:-0800
TZOFFSETTO:-0700
TZNAME:PDT
DTSTART:20250309T100000
END:DAYLIGHT
BEGIN:STANDARD
TZOFFSETFROM:-0700
TZOFFSETTO:-0800
TZNAME:PST
DTSTART:20251102T090000
END:STANDARD
BEGIN:DAYLIGHT
TZOFFSETFROM:-0800
TZOFFSETTO:-0700
TZNAME:PDT
DTSTART:20260308T100000
END:DAYLIGHT
BEGIN:STANDARD
TZOFFSETFROM:-0700
TZOFFSETTO:-0800
TZNAME:PST
DTSTART:20261101T090000
END:STANDARD
BEGIN:DAYLIGHT
TZOFFSETFROM:-0800
TZOFFSETTO:-0700
TZNAME:PDT
DTSTART:20270314T100000
END:DAYLIGHT
BEGIN:STANDARD
TZOFFSETFROM:-0700
TZOFFSETTO:-0800
TZNAME:PST
DTSTART:20271107T090000
END:STANDARD
END:VTIMEZONE
BEGIN:VEVENT
DTSTART;TZID=America/Vancouver:20260512T183000
DTEND;TZID=America/Vancouver:20260512T203000
DTSTAMP:20260423T113726
CREATED:20260420T170331Z
LAST-MODIFIED:20260420T170331Z
UID:5986-1778610600-1778617800@www.bcmbcamps.com
SUMMARY:PINES BIBLE CAMP  Board of Directors Meeting
DESCRIPTION:PINES\, based in Grand Fork\, services the beautiful West Kootenay area of our province.  As the board of directors meetings on May 12\, would you be in prayer for them as they seek God’s direction heading into the busy summer season?
URL:https://www.bcmbcamps.com/event/pines-bible-camp-board-of-directors-meeting/
CATEGORIES:Board Meeting,Pines Bible Camp
ATTACH;FMTTYPE=image/png:https://www.bcmbcamps.com/wp-content/uploads/2025/09/Board-Meetings-900x600-3.png
END:VEVENT
END:VCALENDAR