BEGIN:VCALENDAR
VERSION:2.0
PRODID:-//BCMB Camps - ECPv6.15.20//NONSGML v1.0//EN
CALSCALE:GREGORIAN
METHOD:PUBLISH
X-WR-CALNAME:BCMB Camps
X-ORIGINAL-URL:https://www.bcmbcamps.com
X-WR-CALDESC:Events for BCMB Camps
REFRESH-INTERVAL;VALUE=DURATION:PT1H
X-Robots-Tag:noindex
X-PUBLISHED-TTL:PT1H
BEGIN:VTIMEZONE
TZID:America/Vancouver
BEGIN:DAYLIGHT
TZOFFSETFROM:-0800
TZOFFSETTO:-0700
TZNAME:PDT
DTSTART:20250309T100000
END:DAYLIGHT
BEGIN:STANDARD
TZOFFSETFROM:-0700
TZOFFSETTO:-0800
TZNAME:PST
DTSTART:20251102T090000
END:STANDARD
BEGIN:DAYLIGHT
TZOFFSETFROM:-0800
TZOFFSETTO:-0700
TZNAME:PDT
DTSTART:20260308T100000
END:DAYLIGHT
BEGIN:STANDARD
TZOFFSETFROM:-0700
TZOFFSETTO:-0800
TZNAME:PST
DTSTART:20261101T090000
END:STANDARD
BEGIN:DAYLIGHT
TZOFFSETFROM:-0800
TZOFFSETTO:-0700
TZNAME:PDT
DTSTART:20270314T100000
END:DAYLIGHT
BEGIN:STANDARD
TZOFFSETFROM:-0700
TZOFFSETTO:-0800
TZNAME:PST
DTSTART:20271107T090000
END:STANDARD
END:VTIMEZONE
BEGIN:VEVENT
DTSTART;TZID=America/Vancouver:20260509T080000
DTEND;TZID=America/Vancouver:20260509T150000
DTSTAMP:20260423T111023
CREATED:20260417T204646Z
LAST-MODIFIED:20260417T204852Z
UID:5978-1778313600-1778338800@www.bcmbcamps.com
SUMMARY:RUN - WALK - CYCLE Fundraiser at Gardom Lake Bible Camp
DESCRIPTION:Help make summer camp happen! \nRUN WALK CYCLE is Gardom Lake’s biggest annual fundraiser. All proceeds go towards our summer camps to help cover camperships and operating costs. \nThere are lots of details for you to be aware of so here’s all the info about RUN WALK CYCLE \nHope to see you there! \n  \n 
URL:https://www.bcmbcamps.com/event/run-walk-cycle-fundraiser-at-gardom-lake-bible-camp/
LOCATION:Gardom Lake Bible Camp\, 651 Glenmary Rd\, Enderby\, BC\, V0E 1V3\, Canada
CATEGORIES:Fundraising,Gardom Lake Bible Camp
ATTACH;FMTTYPE=image/png:https://www.bcmbcamps.com/wp-content/uploads/2026/04/Web-Events-1.png
END:VEVENT
BEGIN:VEVENT
DTSTART;VALUE=DATE:20260601
DTEND;VALUE=DATE:20260622
DTSTAMP:20260423T111023
CREATED:20260421T164217Z
LAST-MODIFIED:20260421T164511Z
UID:5998-1780272000-1782086399@www.bcmbcamps.com
SUMMARY:#ridin4camps 2026
DESCRIPTION:Be a part of BCMB Camps’ most-anticipated fundraising festival of the season to raise important funds to further our mission and support our camps!  All funds raised support our FIVE BCMB camps in giving campers the best week of their summer! If you’re interested in participating\, read on! \nDETAILS:\n\n\n\nChoose your wheels!  Bicycles\, motorcycles\, skateboards\, scooters\, unicycles\, or your own two feet!\n Ride anytime between June 1 and June 21\, 2026\nYou choose your route\, you choose your day(s)\nRegister yourself as an individual\, register a team or join one to be a part of a larger community of fun\nPost a link on your social media networks\, send an email\, or tell people about this event to encourage support and donations\nIf you have ability to post your ride via Strava or a similar app\, that would be awesome.\nPictures shared throughout the campaign increase fun and awareness  – Tag using #pushpush #ridin4camps and @BCMBcamps on Facebook or @bcmb_camps on Instagram\nOur goal is to raise $20K for our camps\n\n\n\n*PLEASE NOTE* All teams (or individual riders who are not part of a team) are responsible for creating their own routes and schedules as well as providing and implementing their own snacks/drinks/first aid and other safety measures. \nStart a team\, participate as a fundraiser\, or simply donate to get started!
URL:https://www.bcmbcamps.com/event/ridin4camps-2026/
CATEGORIES:Camps,Fundraising
ATTACH;FMTTYPE=image/png:https://www.bcmbcamps.com/wp-content/uploads/2021/06/Road-Bike-Community-Logo.png
END:VEVENT
BEGIN:VEVENT
DTSTART;TZID=America/Vancouver:20260723T163000
DTEND;TZID=America/Vancouver:20260723T190000
DTSTAMP:20260423T111023
CREATED:20260420T182733Z
LAST-MODIFIED:20260420T182733Z
UID:5989-1784824200-1784833200@www.bcmbcamps.com
SUMMARY:Stillwood's CAR SHOW FUNDRAISER
DESCRIPTION:Do you have a sweet ride you wanna show off for a good cause?\nJoin STILLWOOD for their annual Car Show Fundraiser\, supporting kids who wouldn’t otherwise be able to attend camp. All proceeds go directly toward giving children the opportunity to experience a life-changing week at summer camp. Whether you’ve got a bike\, car\, or truck—classic or modern—all are welcome! So shine up your chrome\, start your engines\, and come out for an evening of fun\, food\, and prizes. \nHere’s a link for more information: Car Show Fundraiser
URL:https://www.bcmbcamps.com/event/stillwoods-car-show-fundraiser/
LOCATION:Stillwood Camp\, 44005 Watt Road\, Lindell Beach\, BC\, V2R 4X9\, Canada
CATEGORIES:Fundraising,Stillwood Camp
ATTACH;FMTTYPE=image/png:https://www.bcmbcamps.com/wp-content/uploads/2026/04/Web-Events-2.png
END:VEVENT
END:VCALENDAR