BEGIN:VCALENDAR
VERSION:2.0
PRODID:-//BCMB Camps - ECPv6.15.20//NONSGML v1.0//EN
CALSCALE:GREGORIAN
METHOD:PUBLISH
X-WR-CALNAME:BCMB Camps
X-ORIGINAL-URL:https://www.bcmbcamps.com
X-WR-CALDESC:Events for BCMB Camps
REFRESH-INTERVAL;VALUE=DURATION:PT1H
X-Robots-Tag:noindex
X-PUBLISHED-TTL:PT1H
BEGIN:VTIMEZONE
TZID:America/Vancouver
BEGIN:DAYLIGHT
TZOFFSETFROM:-0800
TZOFFSETTO:-0700
TZNAME:PDT
DTSTART:20250309T100000
END:DAYLIGHT
BEGIN:STANDARD
TZOFFSETFROM:-0700
TZOFFSETTO:-0800
TZNAME:PST
DTSTART:20251102T090000
END:STANDARD
BEGIN:DAYLIGHT
TZOFFSETFROM:-0800
TZOFFSETTO:-0700
TZNAME:PDT
DTSTART:20260308T100000
END:DAYLIGHT
BEGIN:STANDARD
TZOFFSETFROM:-0700
TZOFFSETTO:-0800
TZNAME:PST
DTSTART:20261101T090000
END:STANDARD
BEGIN:DAYLIGHT
TZOFFSETFROM:-0800
TZOFFSETTO:-0700
TZNAME:PDT
DTSTART:20270314T100000
END:DAYLIGHT
BEGIN:STANDARD
TZOFFSETFROM:-0700
TZOFFSETTO:-0800
TZNAME:PST
DTSTART:20271107T090000
END:STANDARD
END:VTIMEZONE
BEGIN:VEVENT
DTSTART;VALUE=DATE:20260509
DTEND;VALUE=DATE:20260510
DTSTAMP:20260423T151940
CREATED:20260423T185150Z
LAST-MODIFIED:20260423T185150Z
UID:6002-1778284800-1778371199@www.bcmbcamps.com
SUMMARY:WORK DAY at Camp Bob
DESCRIPTION:Camp Bob is getting ready for their summer camps with a Work Day on Saturday\, May 9 and you’re invited to join in!\n\nIt’s a great opportunity to serve together\, connect with others\, and help prepare the camp for the season ahead.\n\nFor details please email info@campbob.ca or call (250) 337-2188.\n\nHope to see you there!
URL:https://www.bcmbcamps.com/event/work-day-at-camp-bob/
LOCATION:Camp Bob\, 1400 Elk Bay FSR\, Campbell River\, BC\, Canada
CATEGORIES:Camp Bob,Workday
ATTACH;FMTTYPE=image/webp:https://www.bcmbcamps.com/wp-content/uploads/2026/04/Web-Events.webp
END:VEVENT
BEGIN:VEVENT
DTSTART;TZID=America/Vancouver:20260509T090000
DTEND;TZID=America/Vancouver:20260509T160000
DTSTAMP:20260423T151940
CREATED:20260423T184239Z
LAST-MODIFIED:20260423T184239Z
UID:6000-1778317200-1778342400@www.bcmbcamps.com
SUMMARY:Stillwood's WORK DAY
DESCRIPTION:Join the folks at Stillwood for their Annual Work Day at Stillwood Camp on Saturday\, May 9 from 9:00 AM to 4:00 PM.\n\nIt’s a great opportunity to serve together\, connect with others\, and help prepare the camp for the season ahead.\n\nLunch will be provided. All ages are welcome\, with parent supervision required for children. Please register in advance.\n\n\n\nRegister at –\nhttps://forms.gle/ue3KcmQSQX6bEi1J6
URL:https://www.bcmbcamps.com/event/stillwoods-work-day/
LOCATION:Stillwood Camp\, 44005 Watt Road\, Lindell Beach\, BC\, V2R 4X9\, Canada
CATEGORIES:Stillwood Camp,Workday
ATTACH;FMTTYPE=image/webp:https://www.bcmbcamps.com/wp-content/uploads/2026/04/Web-Events.webp
END:VEVENT
END:VCALENDAR