BEGIN:VCALENDAR
VERSION:2.0
PRODID:-//BCMB Camps - ECPv6.15.20//NONSGML v1.0//EN
CALSCALE:GREGORIAN
METHOD:PUBLISH
X-WR-CALNAME:BCMB Camps
X-ORIGINAL-URL:https://www.bcmbcamps.com
X-WR-CALDESC:Events for BCMB Camps
REFRESH-INTERVAL;VALUE=DURATION:PT1H
X-Robots-Tag:noindex
X-PUBLISHED-TTL:PT1H
BEGIN:VTIMEZONE
TZID:America/Vancouver
BEGIN:DAYLIGHT
TZOFFSETFROM:-0800
TZOFFSETTO:-0700
TZNAME:PDT
DTSTART:20250309T100000
END:DAYLIGHT
BEGIN:STANDARD
TZOFFSETFROM:-0700
TZOFFSETTO:-0800
TZNAME:PST
DTSTART:20251102T090000
END:STANDARD
BEGIN:DAYLIGHT
TZOFFSETFROM:-0800
TZOFFSETTO:-0700
TZNAME:PDT
DTSTART:20260308T100000
END:DAYLIGHT
BEGIN:STANDARD
TZOFFSETFROM:-0700
TZOFFSETTO:-0800
TZNAME:PST
DTSTART:20261101T090000
END:STANDARD
BEGIN:DAYLIGHT
TZOFFSETFROM:-0800
TZOFFSETTO:-0700
TZNAME:PDT
DTSTART:20270314T100000
END:DAYLIGHT
BEGIN:STANDARD
TZOFFSETFROM:-0700
TZOFFSETTO:-0800
TZNAME:PST
DTSTART:20271107T090000
END:STANDARD
END:VTIMEZONE
BEGIN:VEVENT
DTSTART;TZID=America/Vancouver:20260429T173000
DTEND;TZID=America/Vancouver:20260429T203000
DTSTAMP:20260423T140007
CREATED:20260417T202428Z
LAST-MODIFIED:20260417T202428Z
UID:5976-1777483800-1777494600@www.bcmbcamps.com
SUMMARY:STILLWOOD CAMP Board of Directors Meeting
DESCRIPTION:As the board of directors for Stillwood meet on Wednesday\, April 29 please pray for God’s guidance and wisdom. \n 
URL:https://www.bcmbcamps.com/event/stillwood-camp-board-of-directors-meeting/
LOCATION:BC
CATEGORIES:Board Meeting,Stillwood Camp
ATTACH;FMTTYPE=image/png:https://www.bcmbcamps.com/wp-content/uploads/2025/09/Board-Meetings-900x600-1.png
END:VEVENT
BEGIN:VEVENT
DTSTART;TZID=America/Vancouver:20260425T090000
DTEND;TZID=America/Vancouver:20260425T150000
DTSTAMP:20260423T140007
CREATED:20260417T195655Z
LAST-MODIFIED:20260417T201544Z
UID:5971-1777107600-1777129200@www.bcmbcamps.com
SUMMARY:WORK BEE at Gardom Lake Bible Camp
DESCRIPTION:Are you living in the Shuswap or Okanagan? The folks at Gardom Lake would love to have you join them on Saturday\, April 25th for a work bee.  There will be something for (almost) any age and ability so come on over to the camp on April 25th.  And of course\, they will feed you! \n  \nPhone or email the camp if you need more information.
URL:https://www.bcmbcamps.com/event/work-bee-at-gardom-lake-bible-camp/
LOCATION:Gardom Lake Bible Camp\, 651 Glenmary Rd\, Enderby\, BC\, V0E 1V3\, Canada
CATEGORIES:Gardom Lake Bible Camp,Workday
ATTACH;FMTTYPE=image/png:https://www.bcmbcamps.com/wp-content/uploads/2026/04/Web-Events.png
END:VEVENT
BEGIN:VEVENT
DTSTART;VALUE=DATE:20260424
DTEND;VALUE=DATE:20260426
DTSTAMP:20260423T140007
CREATED:20260311T182404Z
LAST-MODIFIED:20260311T182404Z
UID:5923-1776988800-1777161599@www.bcmbcamps.com
SUMMARY:BCMB Annual Convention
DESCRIPTION:We look forward to meeting at Willow Park Church in Kelowna this April for the BCMB Annual Convention. \nThis year the theme is Renewal: Reimagine How We Lead. It will help us to focus our direction both personally and corporately. The way to overcome pride is living with an attitude of humility. Jesus said\, “But I am among you as the one who serves.” Luke 22:27 CSB \nOn Friday\, April 24th camp and church leaders from across BC will meet for Elevate Leader Training\, and on Saturday we’ll get together with many others for the 2026 Celebration and AGM.  Interested in joining? Follow this link for more information. \n 
URL:https://www.bcmbcamps.com/event/bcmb-annual-convention/
LOCATION:Willow Park Church
ATTACH;FMTTYPE=image/jpeg:https://www.bcmbcamps.com/wp-content/uploads/2026/03/Reimagine-AGM-1030x579-1.jpg
END:VEVENT
BEGIN:VEVENT
DTSTART;TZID=America/Vancouver:20260423T193000
DTEND;TZID=America/Vancouver:20260423T213000
DTSTAMP:20260423T140007
CREATED:20260119T182304Z
LAST-MODIFIED:20260311T161002Z
UID:5821-1776972600-1776979800@www.bcmbcamps.com
SUMMARY:BCMB Bible Camp Society Board of Directors Meeting
DESCRIPTION:Our Board of Directors is a group of godly and dedicated people from across BC\, each one bringing their own camping background perspective.  Would you hold them up in prayer as they lead our Bible camps towards the goal of impacting each person who sets foot at these camps with the Good News of Jesus Christ?
URL:https://www.bcmbcamps.com/event/bcmb-bible-camp-society-board-of-directors-meeting/
LOCATION:BC
CATEGORIES:Board Meeting,Camps
ATTACH;FMTTYPE=image/png:https://www.bcmbcamps.com/wp-content/uploads/2025/09/Board-Meetings-900x600-4-1.png
END:VEVENT
END:VCALENDAR