BEGIN:VCALENDAR
VERSION:2.0
PRODID:-//BCMB Camps - ECPv6.15.20//NONSGML v1.0//EN
CALSCALE:GREGORIAN
METHOD:PUBLISH
X-ORIGINAL-URL:https://www.bcmbcamps.com
X-WR-CALDESC:Events for BCMB Camps
REFRESH-INTERVAL;VALUE=DURATION:PT1H
X-Robots-Tag:noindex
X-PUBLISHED-TTL:PT1H
BEGIN:VTIMEZONE
TZID:America/Vancouver
BEGIN:DAYLIGHT
TZOFFSETFROM:-0800
TZOFFSETTO:-0700
TZNAME:PDT
DTSTART:20250309T100000
END:DAYLIGHT
BEGIN:STANDARD
TZOFFSETFROM:-0700
TZOFFSETTO:-0800
TZNAME:PST
DTSTART:20251102T090000
END:STANDARD
BEGIN:DAYLIGHT
TZOFFSETFROM:-0800
TZOFFSETTO:-0700
TZNAME:PDT
DTSTART:20260308T100000
END:DAYLIGHT
BEGIN:STANDARD
TZOFFSETFROM:-0700
TZOFFSETTO:-0800
TZNAME:PST
DTSTART:20261101T090000
END:STANDARD
BEGIN:DAYLIGHT
TZOFFSETFROM:-0800
TZOFFSETTO:-0700
TZNAME:PDT
DTSTART:20270314T100000
END:DAYLIGHT
BEGIN:STANDARD
TZOFFSETFROM:-0700
TZOFFSETTO:-0800
TZNAME:PST
DTSTART:20271107T090000
END:STANDARD
END:VTIMEZONE
BEGIN:VEVENT
DTSTART;TZID=America/Vancouver:20260723T163000
DTEND;TZID=America/Vancouver:20260723T190000
DTSTAMP:20260423T152445
CREATED:20260420T182733Z
LAST-MODIFIED:20260420T182733Z
UID:5989-1784824200-1784833200@www.bcmbcamps.com
SUMMARY:Stillwood's CAR SHOW FUNDRAISER
DESCRIPTION:Do you have a sweet ride you wanna show off for a good cause?\nJoin STILLWOOD for their annual Car Show Fundraiser\, supporting kids who wouldn’t otherwise be able to attend camp. All proceeds go directly toward giving children the opportunity to experience a life-changing week at summer camp. Whether you’ve got a bike\, car\, or truck—classic or modern—all are welcome! So shine up your chrome\, start your engines\, and come out for an evening of fun\, food\, and prizes. \nHere’s a link for more information: Car Show Fundraiser
URL:https://www.bcmbcamps.com/event/stillwoods-car-show-fundraiser/
LOCATION:Stillwood Camp\, 44005 Watt Road\, Lindell Beach\, BC\, V2R 4X9\, Canada
CATEGORIES:Fundraising,Stillwood Camp
ATTACH;FMTTYPE=image/png:https://www.bcmbcamps.com/wp-content/uploads/2026/04/Web-Events-2.png
END:VEVENT
END:VCALENDAR