BEGIN:VCALENDAR
VERSION:2.0
PRODID:-//BCMB Camps - ECPv6.15.20//NONSGML v1.0//EN
CALSCALE:GREGORIAN
METHOD:PUBLISH
X-WR-CALNAME:BCMB Camps
X-ORIGINAL-URL:https://www.bcmbcamps.com
X-WR-CALDESC:Events for BCMB Camps
REFRESH-INTERVAL;VALUE=DURATION:PT1H
X-Robots-Tag:noindex
X-PUBLISHED-TTL:PT1H
BEGIN:VTIMEZONE
TZID:America/Vancouver
BEGIN:DAYLIGHT
TZOFFSETFROM:-0800
TZOFFSETTO:-0700
TZNAME:PDT
DTSTART:20250309T100000
END:DAYLIGHT
BEGIN:STANDARD
TZOFFSETFROM:-0700
TZOFFSETTO:-0800
TZNAME:PST
DTSTART:20251102T090000
END:STANDARD
BEGIN:DAYLIGHT
TZOFFSETFROM:-0800
TZOFFSETTO:-0700
TZNAME:PDT
DTSTART:20260308T100000
END:DAYLIGHT
BEGIN:STANDARD
TZOFFSETFROM:-0700
TZOFFSETTO:-0800
TZNAME:PST
DTSTART:20261101T090000
END:STANDARD
BEGIN:DAYLIGHT
TZOFFSETFROM:-0800
TZOFFSETTO:-0700
TZNAME:PDT
DTSTART:20270314T100000
END:DAYLIGHT
BEGIN:STANDARD
TZOFFSETFROM:-0700
TZOFFSETTO:-0800
TZNAME:PST
DTSTART:20271107T090000
END:STANDARD
END:VTIMEZONE
BEGIN:VEVENT
DTSTART;TZID=America/Vancouver:20260423T193000
DTEND;TZID=America/Vancouver:20260423T213000
DTSTAMP:20260423T110948
CREATED:20260119T182304Z
LAST-MODIFIED:20260311T161002Z
UID:5821-1776972600-1776979800@www.bcmbcamps.com
SUMMARY:BCMB Bible Camp Society Board of Directors Meeting
DESCRIPTION:Our Board of Directors is a group of godly and dedicated people from across BC\, each one bringing their own camping background perspective.  Would you hold them up in prayer as they lead our Bible camps towards the goal of impacting each person who sets foot at these camps with the Good News of Jesus Christ?
URL:https://www.bcmbcamps.com/event/bcmb-bible-camp-society-board-of-directors-meeting/
CATEGORIES:Board Meeting,Camps
ATTACH;FMTTYPE=image/png:https://www.bcmbcamps.com/wp-content/uploads/2025/09/Board-Meetings-900x600-4-1.png
END:VEVENT
END:VCALENDAR